BEGIN:VCALENDAR
VERSION:2.0
PRODID:-//Pudelpointer e.V. - ECPv6.0.12//NONSGML v1.0//EN
CALSCALE:GREGORIAN
METHOD:PUBLISH
X-ORIGINAL-URL:https://pudelpointer.dev.ivry.cloud
X-WR-CALDESC:Veranstaltungen für Pudelpointer e.V.
REFRESH-INTERVAL;VALUE=DURATION:PT1H
X-Robots-Tag:noindex
X-PUBLISHED-TTL:PT1H
BEGIN:VTIMEZONE
TZID:UTC
BEGIN:STANDARD
TZOFFSETFROM:+0000
TZOFFSETTO:+0000
TZNAME:UTC
DTSTART:20240101T000000
END:STANDARD
END:VTIMEZONE
BEGIN:VEVENT
DTSTART;VALUE=DATE:20240311
DTEND;VALUE=DATE:20240323
DTSTAMP:20260424T064650
CREATED:20240115T113655Z
LAST-MODIFIED:20240115T113717Z
UID:1455-1710115200-1711151999@pudelpointer.dev.ivry.cloud
SUMMARY:Lehrgänge
DESCRIPTION:auf Anfrage Vorbereitungstage zur VJP zwischen Pfungstadt\, Groß-Gerau\, Friedberg bzw. \nThomas Fleck\, Ockenheim Tel. 06725-4561 und 0170-473326
URL:https://pudelpointer.dev.ivry.cloud/veranstaltung/lehrgaenge/
CATEGORIES:Hessen
END:VEVENT
END:VCALENDAR