BEGIN:VCALENDAR
VERSION:2.0
PRODID:-//Pudelpointer e.V. - ECPv6.0.12//NONSGML v1.0//EN
CALSCALE:GREGORIAN
METHOD:PUBLISH
X-ORIGINAL-URL:https://pudelpointer.dev.ivry.cloud
X-WR-CALDESC:Veranstaltungen für Pudelpointer e.V.
REFRESH-INTERVAL;VALUE=DURATION:PT1H
X-Robots-Tag:noindex
X-PUBLISHED-TTL:PT1H
BEGIN:VTIMEZONE
TZID:UTC
BEGIN:STANDARD
TZOFFSETFROM:+0000
TZOFFSETTO:+0000
TZNAME:UTC
DTSTART:20240101T000000
END:STANDARD
END:VTIMEZONE
BEGIN:VEVENT
DTSTART;VALUE=DATE:20240324
DTEND;VALUE=DATE:20240325
DTSTAMP:20260424T064650
CREATED:20240115T115711Z
LAST-MODIFIED:20240115T115711Z
UID:1509-1711238400-1711324799@pudelpointer.dev.ivry.cloud
SUMMARY:Übungstag für die VJP  (mindestens 3\, maximal 6 PPs)
DESCRIPTION:vorrangig für Mitglieder der LG \nim Raum um Wildeshausen \nNenngeld 50€
URL:https://pudelpointer.dev.ivry.cloud/veranstaltung/uebungstag-fuer-die-vjp-mindestens-3-maximal-6-pps/
CATEGORIES:Niedersachsen, Bremen, Hamburg
END:VEVENT
END:VCALENDAR