BEGIN:VCALENDAR
VERSION:2.0
PRODID:-//Pudelpointer e.V. - ECPv6.0.12//NONSGML v1.0//EN
CALSCALE:GREGORIAN
METHOD:PUBLISH
X-WR-CALNAME:Pudelpointer e.V.
X-ORIGINAL-URL:https://pudelpointer.dev.ivry.cloud
X-WR-CALDESC:Veranstaltungen für Pudelpointer e.V.
REFRESH-INTERVAL;VALUE=DURATION:PT1H
X-Robots-Tag:noindex
X-PUBLISHED-TTL:PT1H
BEGIN:VTIMEZONE
TZID:UTC
BEGIN:STANDARD
TZOFFSETFROM:+0000
TZOFFSETTO:+0000
TZNAME:UTC
DTSTART:20240101T000000
END:STANDARD
END:VTIMEZONE
BEGIN:VEVENT
DTSTART;TZID=UTC:20240329T123000
DTEND;TZID=UTC:20240329T183000
DTSTAMP:20260424T064300
CREATED:20240115T113907Z
LAST-MODIFIED:20240115T114619Z
UID:1458-1711715400-1711737000@pudelpointer.dev.ivry.cloud
SUMMARY:Landesgruppenversammlung am Karfreitag\, mit Zuchtschau 1
DESCRIPTION:Karfreitag LG-Versammlung Bürgerhaus Niddatal-Bönstadt\, Assenheimer Str. 49 \n11:00 Fotopräsentation Afrikas wilde Tiere – Hermann Stumpf´s Trip mit PP Odin durch Afrika \nCa.12:30 gemeinsames Mittagessen \nCa.13:30 /14:00 Uhr Mitglieder-Versammlung \nCa. 15:30 Uhr Zuchtschau 1
URL:https://pudelpointer.dev.ivry.cloud/veranstaltung/versammlung/
LOCATION:Bürgerhaus\, Assenheimer Str. 49\, Niddatal-Bönstadt\,
CATEGORIES:Hessen
END:VEVENT
END:VCALENDAR