BEGIN:VCALENDAR
VERSION:2.0
PRODID:-//Pudelpointer e.V. - ECPv6.0.12//NONSGML v1.0//EN
CALSCALE:GREGORIAN
METHOD:PUBLISH
X-WR-CALNAME:Pudelpointer e.V.
X-ORIGINAL-URL:https://pudelpointer.dev.ivry.cloud
X-WR-CALDESC:Veranstaltungen für Pudelpointer e.V.
REFRESH-INTERVAL;VALUE=DURATION:PT1H
X-Robots-Tag:noindex
X-PUBLISHED-TTL:PT1H
BEGIN:VTIMEZONE
TZID:UTC
BEGIN:STANDARD
TZOFFSETFROM:+0000
TZOFFSETTO:+0000
TZNAME:UTC
DTSTART:20240101T000000
END:STANDARD
END:VTIMEZONE
BEGIN:VEVENT
DTSTART;VALUE=DATE:20240504
DTEND;VALUE=DATE:20240505
DTSTAMP:20260424T044651
CREATED:20240115T114830Z
LAST-MODIFIED:20240115T114830Z
UID:1492-1714780800-1714867199@pudelpointer.dev.ivry.cloud
SUMMARY:Brauchbarkeitsprüfung Sachsen A + D (Damwild getropft)
DESCRIPTION:Begrenzt auf 4 Hunde \nNennschluss 10.04.2024 \nNenngeld A 25\,- € ; D 70\,- € \nSuchenleiter Glenn Jahn\, 0172 6084742\, Glenn.Jahn.PP@t-online.de
URL:https://pudelpointer.dev.ivry.cloud/veranstaltung/brauchbarkeitspruefung-sachsen-a-d-damwild-getropft/
CATEGORIES:Mitteldeutschland
END:VEVENT
END:VCALENDAR