BEGIN:VCALENDAR
VERSION:2.0
PRODID:-//Pudelpointer e.V. - ECPv6.0.12//NONSGML v1.0//EN
CALSCALE:GREGORIAN
METHOD:PUBLISH
X-ORIGINAL-URL:https://pudelpointer.dev.ivry.cloud
X-WR-CALDESC:Veranstaltungen für Pudelpointer e.V.
REFRESH-INTERVAL;VALUE=DURATION:PT1H
X-Robots-Tag:noindex
X-PUBLISHED-TTL:PT1H
BEGIN:VTIMEZONE
TZID:UTC
BEGIN:STANDARD
TZOFFSETFROM:+0000
TZOFFSETTO:+0000
TZNAME:UTC
DTSTART:20240101T000000
END:STANDARD
END:VTIMEZONE
BEGIN:VEVENT
DTSTART;VALUE=DATE:20240526
DTEND;VALUE=DATE:20240527
DTSTAMP:20260424T044919
CREATED:20240115T120101Z
LAST-MODIFIED:20240115T120101Z
UID:1518-1716681600-1716767999@pudelpointer.dev.ivry.cloud
SUMMARY:VSwP 20 h
DESCRIPTION:Friesoythe \nNenngeld 150€/200€
URL:https://pudelpointer.dev.ivry.cloud/veranstaltung/vswp-20-h/
CATEGORIES:Niedersachsen, Bremen, Hamburg
END:VEVENT
END:VCALENDAR