BEGIN:VCALENDAR
VERSION:2.0
PRODID:-//Pudelpointer e.V. - ECPv6.0.12//NONSGML v1.0//EN
CALSCALE:GREGORIAN
METHOD:PUBLISH
X-WR-CALNAME:Pudelpointer e.V.
X-ORIGINAL-URL:https://pudelpointer.dev.ivry.cloud
X-WR-CALDESC:Veranstaltungen für Pudelpointer e.V.
REFRESH-INTERVAL;VALUE=DURATION:PT1H
X-Robots-Tag:noindex
X-PUBLISHED-TTL:PT1H
BEGIN:VTIMEZONE
TZID:UTC
BEGIN:STANDARD
TZOFFSETFROM:+0000
TZOFFSETTO:+0000
TZNAME:UTC
DTSTART:20240101T000000
END:STANDARD
END:VTIMEZONE
BEGIN:VEVENT
DTSTART;TZID=UTC:20240615T110000
DTEND;TZID=UTC:20240615T210000
DTSTAMP:20260424T040214
CREATED:20240115T121930Z
LAST-MODIFIED:20240115T121930Z
UID:1546-1718449200-1718485200@pudelpointer.dev.ivry.cloud
SUMMARY:Sommerfest
DESCRIPTION:bei Familie Kampe\, Treffpunkt Teichkoppel 49a\, 24229 Dänischagen\, Beginn 11 Uhr\, Anmeldung telefonisch: 01724107494
URL:https://pudelpointer.dev.ivry.cloud/veranstaltung/sommerfest/
LOCATION:Teichkoppel\, Teichkoppel 49a\, Dänischagen\, 24229
CATEGORIES:Schleswig-Holstein
END:VEVENT
END:VCALENDAR