BEGIN:VCALENDAR
VERSION:2.0
PRODID:-//Pudelpointer e.V. - ECPv6.0.12//NONSGML v1.0//EN
CALSCALE:GREGORIAN
METHOD:PUBLISH
X-WR-CALNAME:Pudelpointer e.V.
X-ORIGINAL-URL:https://pudelpointer.dev.ivry.cloud
X-WR-CALDESC:Veranstaltungen für Pudelpointer e.V.
REFRESH-INTERVAL;VALUE=DURATION:PT1H
X-Robots-Tag:noindex
X-PUBLISHED-TTL:PT1H
BEGIN:VTIMEZONE
TZID:UTC
BEGIN:STANDARD
TZOFFSETFROM:+0000
TZOFFSETTO:+0000
TZNAME:UTC
DTSTART:20240101T000000
END:STANDARD
END:VTIMEZONE
BEGIN:VEVENT
DTSTART;VALUE=DATE:20240825
DTEND;VALUE=DATE:20240826
DTSTAMP:20260424T015533
CREATED:20240115T114222Z
LAST-MODIFIED:20240115T114222Z
UID:1467-1724544000-1724630399@pudelpointer.dev.ivry.cloud
SUMMARY:Landesgruppen Sommerfest in Pfungstadt-Hähnlein bei Familie Häberlein\, Feld-Übungsmöglichkeiten Junghunde
DESCRIPTION:
URL:https://pudelpointer.dev.ivry.cloud/veranstaltung/landesgruppen-sommerfest-in-pfungstadt-haehnlein-bei-familie-haeberlein-feld-uebungsmoeglichkeiten-junghunde/
CATEGORIES:Hessen
END:VEVENT
END:VCALENDAR