BEGIN:VCALENDAR
VERSION:2.0
PRODID:-//Pudelpointer e.V. - ECPv6.0.12//NONSGML v1.0//EN
CALSCALE:GREGORIAN
METHOD:PUBLISH
X-ORIGINAL-URL:https://pudelpointer.dev.ivry.cloud
X-WR-CALDESC:Veranstaltungen für Pudelpointer e.V.
REFRESH-INTERVAL;VALUE=DURATION:PT1H
X-Robots-Tag:noindex
X-PUBLISHED-TTL:PT1H
BEGIN:VTIMEZONE
TZID:UTC
BEGIN:STANDARD
TZOFFSETFROM:+0000
TZOFFSETTO:+0000
TZNAME:UTC
DTSTART:20240101T000000
END:STANDARD
END:VTIMEZONE
BEGIN:VEVENT
DTSTART;VALUE=DATE:20240112
DTEND;VALUE=DATE:20240115
DTSTAMP:20260424T073401
CREATED:20240115T113334Z
LAST-MODIFIED:20240115T113334Z
UID:1437-1705017600-1705276799@pudelpointer.dev.ivry.cloud
SUMMARY:Messe Jagen und Fischen | Augsburg Januar 2024
DESCRIPTION:Gebraucht werden auch Helfer für Auf- und Abbau! \nWeiter Infos und Koordination beim LG Obmann Wolfgang Klaus \nTel. 0179 6647145 oder per Mail: Wolfgang.klaus@arcor.de
URL:https://pudelpointer.dev.ivry.cloud/veranstaltung/messe-jagen-und-fischen-augsburg-januar-2024/
CATEGORIES:Bayern
END:VEVENT
BEGIN:VEVENT
DTSTART;VALUE=DATE:20240120
DTEND;VALUE=DATE:20240121
DTSTAMP:20260424T073401
CREATED:20240115T121456Z
LAST-MODIFIED:20240115T121456Z
UID:1537-1705708800-1705795199@pudelpointer.dev.ivry.cloud
SUMMARY:Brauchbarkeitsprüfung Stöbern (BP I) in Giekau
DESCRIPTION:Nennschluss: 30. Dezember 2023 \nNenngeld: 80\,00 Euro \nZahlungseingang bis spätestens 03.01.2024. Die Nennung verpflichtet zur Zahlung des Nenngeldes\, sollte zum Nennschluss das Nenngeld nicht auf das Prüfungskonto überwiesen sein\, wird die Nennung als nichtig erachtet. Nenngeld ist Reugeld!
URL:https://pudelpointer.dev.ivry.cloud/veranstaltung/brauchbarkeitspruefung-stoebern-bp-i-in-giekau/
CATEGORIES:Schleswig-Holstein
END:VEVENT
BEGIN:VEVENT
DTSTART;VALUE=DATE:20240131
DTEND;VALUE=DATE:20240205
DTSTAMP:20260424T073401
CREATED:20240115T122144Z
LAST-MODIFIED:20240115T122144Z
UID:1551-1706659200-1707091199@pudelpointer.dev.ivry.cloud
SUMMARY:Messe Jagd und Hund/ Dortmund  Zuchtschau/ F.u.H Bewertung auf Anfrage
DESCRIPTION:nur nach vorheriger Nennung Formblatt 1\, Nennschluss 14.01.2024
URL:https://pudelpointer.dev.ivry.cloud/veranstaltung/messe-jagd-und-hund-dortmund-zuchtschau-f-u-h-bewertung-auf-anfrage/
CATEGORIES:Westfalen
ORGANIZER;CN="Landesgruppe%20Westfalen":MAILTO:Katharina@ivry.eu
END:VEVENT
END:VCALENDAR