BEGIN:VCALENDAR
VERSION:2.0
PRODID:-//Pudelpointer e.V. - ECPv6.0.12//NONSGML v1.0//EN
CALSCALE:GREGORIAN
METHOD:PUBLISH
X-WR-CALNAME:Pudelpointer e.V.
X-ORIGINAL-URL:https://pudelpointer.dev.ivry.cloud
X-WR-CALDESC:Veranstaltungen für Pudelpointer e.V.
REFRESH-INTERVAL;VALUE=DURATION:PT1H
X-Robots-Tag:noindex
X-PUBLISHED-TTL:PT1H
BEGIN:VTIMEZONE
TZID:UTC
BEGIN:STANDARD
TZOFFSETFROM:+0000
TZOFFSETTO:+0000
TZNAME:UTC
DTSTART:20240101T000000
END:STANDARD
END:VTIMEZONE
BEGIN:VEVENT
DTSTART;VALUE=DATE:20240308
DTEND;VALUE=DATE:20240311
DTSTAMP:20260424T054310
CREATED:20240115T113454Z
LAST-MODIFIED:20240115T113454Z
UID:1447-1709856000-1710115199@pudelpointer.dev.ivry.cloud
SUMMARY:Messe Alsfeld (Jagen\, Fischen\, Offroad)
DESCRIPTION:
URL:https://pudelpointer.dev.ivry.cloud/veranstaltung/messe-alsfeld-jagen-fischen-offroad/
CATEGORIES:Hessen
END:VEVENT
BEGIN:VEVENT
DTSTART;VALUE=DATE:20240309
DTEND;VALUE=DATE:20240310
DTSTAMP:20260424T054310
CREATED:20240115T113531Z
LAST-MODIFIED:20240115T113531Z
UID:1450-1709942400-1710028799@pudelpointer.dev.ivry.cloud
SUMMARY:Bringtreue-Prüfung VDD Hessen e.V. in ARGE mit VPP e.V. LG Hessen in Niddatal
DESCRIPTION:
URL:https://pudelpointer.dev.ivry.cloud/veranstaltung/bringtreue-pruefung-vdd-hessen-e-v-in-arge-mit-vpp-e-v-lg-hessen-in-niddatal/
CATEGORIES:Hessen
END:VEVENT
BEGIN:VEVENT
DTSTART;VALUE=DATE:20240309
DTEND;VALUE=DATE:20240310
DTSTAMP:20260424T054310
CREATED:20240115T115634Z
LAST-MODIFIED:20240115T115634Z
UID:1506-1709942400-1710028799@pudelpointer.dev.ivry.cloud
SUMMARY:Bringtreueprüfung (Mindestens 4 Hunde)  im Raum Wildeshausen
DESCRIPTION:Nennung bis 24. Februar 2024 an \nGisela Steinbach-Bosch \nNenngeld 40€/60€
URL:https://pudelpointer.dev.ivry.cloud/veranstaltung/bringtreuepruefung-mindestens-4-hunde-im-raum-wildeshausen/
CATEGORIES:Niedersachsen, Bremen, Hamburg
END:VEVENT
BEGIN:VEVENT
DTSTART;VALUE=DATE:20240311
DTEND;VALUE=DATE:20240323
DTSTAMP:20260424T054310
CREATED:20240115T113655Z
LAST-MODIFIED:20240115T113717Z
UID:1455-1710115200-1711151999@pudelpointer.dev.ivry.cloud
SUMMARY:Lehrgänge
DESCRIPTION:auf Anfrage Vorbereitungstage zur VJP zwischen Pfungstadt\, Groß-Gerau\, Friedberg bzw. \nThomas Fleck\, Ockenheim Tel. 06725-4561 und 0170-473326
URL:https://pudelpointer.dev.ivry.cloud/veranstaltung/lehrgaenge/
CATEGORIES:Hessen
END:VEVENT
BEGIN:VEVENT
DTSTART;VALUE=DATE:20240316
DTEND;VALUE=DATE:20240317
DTSTAMP:20260424T054310
CREATED:20240115T122215Z
LAST-MODIFIED:20240115T122215Z
UID:1554-1710547200-1710633599@pudelpointer.dev.ivry.cloud
SUMMARY:Btr\, Landesgruppenversammlung  Landgasthof Simonsmeier  Zuchtschau/ F.u.H Bewertung  Einladung erfolgt schriftlich
DESCRIPTION:Einladung erfolgt schriftlich
URL:https://pudelpointer.dev.ivry.cloud/veranstaltung/btr-landesgruppenversammlung-landgasthof-simonsmeier-zuchtschau-f-u-h-bewertung-einladung-erfolgt-schriftlich/
CATEGORIES:Westfalen
ORGANIZER;CN="Landesgruppe%20Westfalen":MAILTO:Katharina@ivry.eu
END:VEVENT
BEGIN:VEVENT
DTSTART;VALUE=DATE:20240324
DTEND;VALUE=DATE:20240325
DTSTAMP:20260424T054310
CREATED:20240115T115711Z
LAST-MODIFIED:20240115T115711Z
UID:1509-1711238400-1711324799@pudelpointer.dev.ivry.cloud
SUMMARY:Übungstag für die VJP  (mindestens 3\, maximal 6 PPs)
DESCRIPTION:vorrangig für Mitglieder der LG \nim Raum um Wildeshausen \nNenngeld 50€
URL:https://pudelpointer.dev.ivry.cloud/veranstaltung/uebungstag-fuer-die-vjp-mindestens-3-maximal-6-pps/
CATEGORIES:Niedersachsen, Bremen, Hamburg
END:VEVENT
BEGIN:VEVENT
DTSTART;TZID=UTC:20240329T123000
DTEND;TZID=UTC:20240329T183000
DTSTAMP:20260424T054310
CREATED:20240115T113907Z
LAST-MODIFIED:20240115T114619Z
UID:1458-1711715400-1711737000@pudelpointer.dev.ivry.cloud
SUMMARY:Landesgruppenversammlung am Karfreitag\, mit Zuchtschau 1
DESCRIPTION:Karfreitag LG-Versammlung Bürgerhaus Niddatal-Bönstadt\, Assenheimer Str. 49 \n11:00 Fotopräsentation Afrikas wilde Tiere – Hermann Stumpf´s Trip mit PP Odin durch Afrika \nCa.12:30 gemeinsames Mittagessen \nCa.13:30 /14:00 Uhr Mitglieder-Versammlung \nCa. 15:30 Uhr Zuchtschau 1
URL:https://pudelpointer.dev.ivry.cloud/veranstaltung/versammlung/
LOCATION:Bürgerhaus\, Assenheimer Str. 49\, Niddatal-Bönstadt\,
CATEGORIES:Hessen
END:VEVENT
END:VCALENDAR