BEGIN:VCALENDAR
VERSION:2.0
PRODID:-//Pudelpointer e.V. - ECPv6.0.12//NONSGML v1.0//EN
CALSCALE:GREGORIAN
METHOD:PUBLISH
X-WR-CALNAME:Pudelpointer e.V.
X-ORIGINAL-URL:https://pudelpointer.dev.ivry.cloud
X-WR-CALDESC:Veranstaltungen für Pudelpointer e.V.
REFRESH-INTERVAL;VALUE=DURATION:PT1H
X-Robots-Tag:noindex
X-PUBLISHED-TTL:PT1H
BEGIN:VTIMEZONE
TZID:UTC
BEGIN:STANDARD
TZOFFSETFROM:+0000
TZOFFSETTO:+0000
TZNAME:UTC
DTSTART:20240101T000000
END:STANDARD
END:VTIMEZONE
BEGIN:VEVENT
DTSTART;VALUE=DATE:20240406
DTEND;VALUE=DATE:20240408
DTSTAMP:20260424T044736
CREATED:20240115T115754Z
LAST-MODIFIED:20240115T115754Z
UID:1511-1712361600-1712534399@pudelpointer.dev.ivry.cloud
SUMMARY:VJP\, jeweils mit Zuchtschau  um Haren und um Linsburg
DESCRIPTION:Nennungen bis 23./24. März 2024 \nNenngeld 80€/90€
URL:https://pudelpointer.dev.ivry.cloud/veranstaltung/vjp-jeweils-mit-zuchtschau-um-haren-und-um-linsburg/
CATEGORIES:Niedersachsen, Bremen, Hamburg
END:VEVENT
BEGIN:VEVENT
DTSTART;VALUE=DATE:20240407
DTEND;VALUE=DATE:20240408
DTSTAMP:20260424T044736
CREATED:20240115T114043Z
LAST-MODIFIED:20240115T114613Z
UID:1462-1712448000-1712534399@pudelpointer.dev.ivry.cloud
SUMMARY:VJP JGV Rhein-Nahe e.V. in ARGE mit VPP e.V. LG Hessen 55278 um Selze
DESCRIPTION:Nenngeld EUR 60\,00 / 90\,00 EUR (Mitglieder/Nichtmitglieder)\, \ndas Nenngeld erhöht sich für Teilnehmer\, die nicht Mitglied im LJV RLP sind\, um 30\,00 €. \nBegrenzung max. 12 eingetragene Vorstehhunde\, Vereinsmitglieder haben Vorrang! Frühzeitige Nennung ab Januar wird empfohlen\, da auch in Rheinhessen die Prüfungsreviere begrenzt und 12 Plätze schnell belegt sind. \nTreffpunkt wird mit der Einladung bekannt gegeben
URL:https://pudelpointer.dev.ivry.cloud/veranstaltung/vjp-jgv-rhein-nahe-e-v-in-arge-mit-vpp-e-v-lg-hessen-55278-um-selze/
CATEGORIES:Hessen
END:VEVENT
BEGIN:VEVENT
DTSTART;VALUE=DATE:20240407
DTEND;VALUE=DATE:20240408
DTSTAMP:20260424T044736
CREATED:20240115T121618Z
LAST-MODIFIED:20240115T121618Z
UID:1542-1712448000-1712534399@pudelpointer.dev.ivry.cloud
SUMMARY:VJP / Haar- und Formwert - Beurteilung in der Krempermarsch
DESCRIPTION:Nennschluss: 17. März 2024 \nNenngeld: 90\,00 Euro; 30\,00 Euro nur für Haar- und Formwert Beurteilung (ohne VJP) \nZahlungseingang bis spätestens 19.03.2023. Die Nennung verpflichtet zur Zahlung des Nenngeldes\, sollte zum Nennschluss das Nenngeld nicht auf das Prüfungskonto überwiesen sein\, wird die Nennung als nichtig erachtet. Nenngeld ist Reugeld! \nHaar- und Formwert-Beurteilung nur falls genug Anfragen vorliegen.
URL:https://pudelpointer.dev.ivry.cloud/veranstaltung/vjp-haar-und-formwert-beurteilung-in-der-krempermarsch/
CATEGORIES:Schleswig-Holstein
END:VEVENT
BEGIN:VEVENT
DTSTART;VALUE=DATE:20240413
DTEND;VALUE=DATE:20240414
DTSTAMP:20260424T044736
CREATED:20240115T114741Z
LAST-MODIFIED:20240115T114741Z
UID:1489-1712966400-1713052799@pudelpointer.dev.ivry.cloud
SUMMARY:JP in den Revieren um Wettin
DESCRIPTION:Zugelassen nur eingetragene Vorstehhunderassen des JGHV \nNennschluss 09.03.2024 \nNenngeld Euro 60\,00 für Mitglieder\, Euro 90\,00 für Nichtmitglieder
URL:https://pudelpointer.dev.ivry.cloud/veranstaltung/jp-in-den-revieren-um-wettin/
CATEGORIES:Mitteldeutschland
END:VEVENT
BEGIN:VEVENT
DTSTART;VALUE=DATE:20240413
DTEND;VALUE=DATE:20240414
DTSTAMP:20260424T044736
CREATED:20240115T122243Z
LAST-MODIFIED:20240115T122243Z
UID:1556-1712966400-1713052799@pudelpointer.dev.ivry.cloud
SUMMARY:VJP\, Zuchtschau/ F.u.H Bewertung
DESCRIPTION:
URL:https://pudelpointer.dev.ivry.cloud/veranstaltung/vjp-zuchtschau-f-u-h-bewertung/
CATEGORIES:Westfalen
ORGANIZER;CN="Landesgruppe%20Westfalen":MAILTO:Katharina@ivry.eu
END:VEVENT
BEGIN:VEVENT
DTSTART;TZID=UTC:20240414T140000
DTEND;TZID=UTC:20240414T210000
DTSTAMP:20260424T044736
CREATED:20240115T115902Z
LAST-MODIFIED:20240115T115922Z
UID:1513-1713103200-1713128400@pudelpointer.dev.ivry.cloud
SUMMARY:Mitgliederversammlung
DESCRIPTION:
URL:https://pudelpointer.dev.ivry.cloud/veranstaltung/mitgliederversammlung/
LOCATION:Landhotel Dötlingen\, Rittrumer Kirchweg 6\, Dötlingen\, 27801
CATEGORIES:Niedersachsen, Bremen, Hamburg
END:VEVENT
BEGIN:VEVENT
DTSTART;TZID=UTC:20240420T080000
DTEND;TZID=UTC:20240420T200000
DTSTAMP:20260424T044736
CREATED:20240115T120709Z
LAST-MODIFIED:20240115T120709Z
UID:1535-1713600000-1713643200@pudelpointer.dev.ivry.cloud
SUMMARY:VJP in den Revieren um 67294 Ilbesheim
DESCRIPTION:Zugelassen: max. 12 eingetragene Vorstehhunde\, Mitglieder haben Vorrang \nNenngeld: (ist Reuegeld) 80\,-€ Mitglieder\,100\,-€ Nichtmitglieder \nper Überweisung \nNennschluss: 30. März 2024 \nTreffpunkt/Suchenlokal: 08:00 Uhr an der Landwirtschaftshalle Trautwein in 67294 Ilbesheim
URL:https://pudelpointer.dev.ivry.cloud/veranstaltung/vjp-in-den-revieren-um-67294-ilbesheim/
CATEGORIES:Pfalz
END:VEVENT
BEGIN:VEVENT
DTSTART;VALUE=DATE:20240427
DTEND;VALUE=DATE:20240428
DTSTAMP:20260424T044736
CREATED:20240115T120303Z
LAST-MODIFIED:20240115T120303Z
UID:1522-1714176000-1714262399@pudelpointer.dev.ivry.cloud
SUMMARY:VJP in den Revieren um 67294 Ilbesheim mit Zuchtschau
DESCRIPTION:
URL:https://pudelpointer.dev.ivry.cloud/veranstaltung/vjp-in-den-revieren-um-67294-ilbesheim-mit-zuchtschau/
CATEGORIES:Pfalz
END:VEVENT
END:VCALENDAR