BEGIN:VCALENDAR
VERSION:2.0
PRODID:-//Pudelpointer e.V. - ECPv6.0.12//NONSGML v1.0//EN
CALSCALE:GREGORIAN
METHOD:PUBLISH
X-WR-CALNAME:Pudelpointer e.V.
X-ORIGINAL-URL:https://pudelpointer.dev.ivry.cloud
X-WR-CALDESC:Veranstaltungen für Pudelpointer e.V.
REFRESH-INTERVAL;VALUE=DURATION:PT1H
X-Robots-Tag:noindex
X-PUBLISHED-TTL:PT1H
BEGIN:VTIMEZONE
TZID:UTC
BEGIN:STANDARD
TZOFFSETFROM:+0000
TZOFFSETTO:+0000
TZNAME:UTC
DTSTART:20240101T000000
END:STANDARD
END:VTIMEZONE
BEGIN:VEVENT
DTSTART;VALUE=DATE:20240907
DTEND;VALUE=DATE:20240908
DTSTAMP:20260423T231131
CREATED:20240115T115128Z
LAST-MODIFIED:20240115T115128Z
UID:1498-1725667200-1725753599@pudelpointer.dev.ivry.cloud
SUMMARY:HZP in den Revieren um Wetti
DESCRIPTION:ohne Spurarbeit \nZugelassen nur eingetragene Vorstehhunde \nNennschluss 03.08.2024 \nNenngeld Euro 80\,00 für Mitglieder\, Euro 100\,00 für Nichtmitgliede
URL:https://pudelpointer.dev.ivry.cloud/veranstaltung/hzp-in-den-revieren-um-wetti/
CATEGORIES:Mitteldeutschland
END:VEVENT
BEGIN:VEVENT
DTSTART;VALUE=DATE:20240907
DTEND;VALUE=DATE:20240909
DTSTAMP:20260423T231131
CREATED:20240115T120508Z
LAST-MODIFIED:20240115T120508Z
UID:1531-1725667200-1725839999@pudelpointer.dev.ivry.cloud
SUMMARY:HZP o. Sp. m. l.E. in den Revieren um 67294 Ilbesheim
DESCRIPTION:
URL:https://pudelpointer.dev.ivry.cloud/veranstaltung/hzp-o-sp-m-l-e-in-den-revieren-um-67294-ilbesheim/
CATEGORIES:Pfalz
END:VEVENT
BEGIN:VEVENT
DTSTART;TZID=UTC:20240907T140000
DTEND;TZID=UTC:20240907T200000
DTSTAMP:20260423T231131
CREATED:20240115T115431Z
LAST-MODIFIED:20240115T115431Z
UID:1504-1725717600-1725739200@pudelpointer.dev.ivry.cloud
SUMMARY:Zuchtschauen VPP e.V. Landesgruppe Mitteldeutschland in Wettin
DESCRIPTION:Zugelassen gem. § 3 Zuchtschauordnung VPP e.V. i. d. F. vom 25.09.2015 \nMindestalter 12 Monate (18 Monate für endgültige Bewertung) \nNennung Formblatt 2019-1 (Vermerk Zuchtschau) \nNenngeld Kosten je nach Aufwand\, mind. 30\,-€ \nVeranstaltungsort: in Wettin (genaue Adresse wird mit der Einladung bekannt gegeben)
URL:https://pudelpointer.dev.ivry.cloud/veranstaltung/zuchtschauen-vpp-e-v-landesgruppe-mitteldeutschland-in-wettin-2/
CATEGORIES:Mitteldeutschland
END:VEVENT
BEGIN:VEVENT
DTSTART;VALUE=DATE:20240914
DTEND;VALUE=DATE:20240915
DTSTAMP:20260423T231131
CREATED:20240115T120013Z
LAST-MODIFIED:20240115T120013Z
UID:1516-1726272000-1726358399@pudelpointer.dev.ivry.cloud
SUMMARY:HZPo. Sp./AZP m. Sp/ o. Sp.\, (Bei Bedarf mit Zuchtschau) um Haren
DESCRIPTION:90€/100E
URL:https://pudelpointer.dev.ivry.cloud/veranstaltung/hzpo-sp-azp-m-sp-o-sp-bei-bedarf-mit-zuchtschau-um-haren/
CATEGORIES:Niedersachsen, Bremen, Hamburg
END:VEVENT
BEGIN:VEVENT
DTSTART;VALUE=DATE:20240914
DTEND;VALUE=DATE:20240915
DTSTAMP:20260423T231131
CREATED:20240115T122426Z
LAST-MODIFIED:20240115T122426Z
UID:1564-1726272000-1726358399@pudelpointer.dev.ivry.cloud
SUMMARY:HZP und BP Zusatz §6  Zuchtschau/ F.u.H Bewertung
DESCRIPTION:
URL:https://pudelpointer.dev.ivry.cloud/veranstaltung/hzp-und-bp-zusatz-%c2%a76-zuchtschau-f-u-h-bewertung/
CATEGORIES:Westfalen
ORGANIZER;CN="Landesgruppe%20Westfalen":MAILTO:Katharina@ivry.eu
END:VEVENT
BEGIN:VEVENT
DTSTART;VALUE=DATE:20240915
DTEND;VALUE=DATE:20240916
DTSTAMP:20260423T231131
CREATED:20240115T114253Z
LAST-MODIFIED:20240115T114253Z
UID:1474-1726358400-1726444799@pudelpointer.dev.ivry.cloud
SUMMARY:HZP o. l. E. und o. Hsp. JGV Rhein-Nahe e.V. in ARGE mit VPP e.V. LG Hessen um 55278 Selzen
DESCRIPTION:
URL:https://pudelpointer.dev.ivry.cloud/veranstaltung/hzp-o-l-e-und-o-hsp-jgv-rhein-nahe-e-v-in-arge-mit-vpp-e-v-lg-hessen-um-55278-selzen/
CATEGORIES:Hessen
END:VEVENT
BEGIN:VEVENT
DTSTART;VALUE=DATE:20240915
DTEND;VALUE=DATE:20240916
DTSTAMP:20260423T231131
CREATED:20240115T122451Z
LAST-MODIFIED:20240115T122451Z
UID:1566-1726358400-1726444799@pudelpointer.dev.ivry.cloud
SUMMARY:BP §7
DESCRIPTION:
URL:https://pudelpointer.dev.ivry.cloud/veranstaltung/bp-%c2%a77/
CATEGORIES:Westfalen
ORGANIZER;CN="Landesgruppe%20Westfalen":MAILTO:Katharina@ivry.eu
END:VEVENT
BEGIN:VEVENT
DTSTART;VALUE=DATE:20240919
DTEND;VALUE=DATE:20241021
DTSTAMP:20260423T231131
CREATED:20240115T120547Z
LAST-MODIFIED:20240115T120547Z
UID:1533-1726704000-1729468799@pudelpointer.dev.ivry.cloud
SUMMARY:VGP in den Revieren um 67294 Ilbesheim
DESCRIPTION:
URL:https://pudelpointer.dev.ivry.cloud/veranstaltung/vgp-in-den-revieren-um-67294-ilbesheim/
CATEGORIES:Pfalz
END:VEVENT
BEGIN:VEVENT
DTSTART;VALUE=DATE:20240928
DTEND;VALUE=DATE:20240930
DTSTAMP:20260423T231131
CREATED:20240115T114336Z
LAST-MODIFIED:20240115T114336Z
UID:1482-1727481600-1727654399@pudelpointer.dev.ivry.cloud
SUMMARY:VGP des JGV Rhein-Nahe e.V. in Rheinhessen
DESCRIPTION:
URL:https://pudelpointer.dev.ivry.cloud/veranstaltung/vgp-des-jgv-rhein-nahe-e-v-in-rheinhessen/
CATEGORIES:Hessen
END:VEVENT
BEGIN:VEVENT
DTSTART;VALUE=DATE:20240928
DTEND;VALUE=DATE:20240930
DTSTAMP:20260423T231131
CREATED:20240115T122524Z
LAST-MODIFIED:20240115T133753Z
UID:1568-1727481600-1727654399@pudelpointer.dev.ivry.cloud
SUMMARY:VGP/VPS ÜF (I)  Zuchtschau/ F.u.H Bewertung
DESCRIPTION:
URL:https://pudelpointer.dev.ivry.cloud/veranstaltung/vgp-vps-uef-i-zuchtschau-f-u-h-bewertung/
CATEGORIES:Westfalen
ORGANIZER;CN="Landesgruppe%20Westfalen":MAILTO:Katharina@ivry.eu
END:VEVENT
END:VCALENDAR