BEGIN:VCALENDAR
VERSION:2.0
PRODID:-//Pudelpointer e.V. - ECPv6.0.12//NONSGML v1.0//EN
CALSCALE:GREGORIAN
METHOD:PUBLISH
X-WR-CALNAME:Pudelpointer e.V.
X-ORIGINAL-URL:https://pudelpointer.dev.ivry.cloud
X-WR-CALDESC:Veranstaltungen für Pudelpointer e.V.
REFRESH-INTERVAL;VALUE=DURATION:PT1H
X-Robots-Tag:noindex
X-PUBLISHED-TTL:PT1H
BEGIN:VTIMEZONE
TZID:UTC
BEGIN:STANDARD
TZOFFSETFROM:+0000
TZOFFSETTO:+0000
TZNAME:UTC
DTSTART:20240101T000000
END:STANDARD
END:VTIMEZONE
BEGIN:VEVENT
DTSTART;VALUE=DATE:20240919
DTEND;VALUE=DATE:20241021
DTSTAMP:20260423T213431
CREATED:20240115T120547Z
LAST-MODIFIED:20240115T120547Z
UID:1533-1726704000-1729468799@pudelpointer.dev.ivry.cloud
SUMMARY:VGP in den Revieren um 67294 Ilbesheim
DESCRIPTION:
URL:https://pudelpointer.dev.ivry.cloud/veranstaltung/vgp-in-den-revieren-um-67294-ilbesheim/
CATEGORIES:Pfalz
END:VEVENT
BEGIN:VEVENT
DTSTART;VALUE=DATE:20241003
DTEND;VALUE=DATE:20241005
DTSTAMP:20260423T213431
CREATED:20240115T114507Z
LAST-MODIFIED:20240128T142423Z
UID:1484-1727913600-1728086399@pudelpointer.dev.ivry.cloud
SUMMARY:74. Edgar-Heyne-HZP Schleswig-Holstein
DESCRIPTION:Nennschluss: 06. September 2024 \nNenngeld: 130\,00 Euro; 30\,00 Euro nur für Haar- und Formwert Beurteilung (ohne HZP) \nZahlungseingang bis spätestens 09.09.2024. Die Nennung verpflichtet zur Zahlung des \nNenngeldes\, sollte zum Nennschluss das Nenngeld nicht auf das Prüfungskonto überwiesen sein\, wird die Nennung als nichtig erachtet. Nenngeld ist Reugeld! \nHaar- und Formwert-Beurteilung findet im Rahmen der Edgar-Heyne-HZP statt.
URL:https://pudelpointer.dev.ivry.cloud/veranstaltung/74-edgar-heyne-hzp-schleswig-holstein/
CATEGORIES:Baden-Württemberg,Bayern,Hessen,Mitteldeutschland,Niedersachsen, Bremen, Hamburg,Nord-Ost,Nordamerika,Pfalz,Rheinland,Schleswig-Holstein,Westfalen
END:VEVENT
BEGIN:VEVENT
DTSTART;VALUE=DATE:20241012
DTEND;VALUE=DATE:20241014
DTSTAMP:20260423T213431
CREATED:20240115T120150Z
LAST-MODIFIED:20240115T120150Z
UID:1520-1728691200-1728863999@pudelpointer.dev.ivry.cloud
SUMMARY:VGP (Bei Bedarf mit Zuchtschau) um Haren
DESCRIPTION:Nenngeld 150€/170€
URL:https://pudelpointer.dev.ivry.cloud/veranstaltung/vgp-bei-bedarf-mit-zuchtschau-um-haren/
CATEGORIES:Niedersachsen, Bremen, Hamburg
END:VEVENT
BEGIN:VEVENT
DTSTART;VALUE=DATE:20241012
DTEND;VALUE=DATE:20241014
DTSTAMP:20260423T213431
CREATED:20240115T122552Z
LAST-MODIFIED:20240115T122552Z
UID:1570-1728691200-1728863999@pudelpointer.dev.ivry.cloud
SUMMARY:VGP/VPS ÜF (II)  Zuchtschau/ F.u.H Bewertung
DESCRIPTION:
URL:https://pudelpointer.dev.ivry.cloud/veranstaltung/vgp-vps-uef-ii-zuchtschau-f-u-h-bewertung/
CATEGORIES:Westfalen
ORGANIZER;CN="Landesgruppe%20Westfalen":MAILTO:Katharina@ivry.eu
END:VEVENT
BEGIN:VEVENT
DTSTART;VALUE=DATE:20241018
DTEND;VALUE=DATE:20241020
DTSTAMP:20260423T213431
CREATED:20240115T121720Z
LAST-MODIFIED:20240115T121720Z
UID:1544-1729209600-1729382399@pudelpointer.dev.ivry.cloud
SUMMARY:VGP / VPS / Haar-und Formwert-Beurteilung in Heidmühlen/Krempermarsch
DESCRIPTION:Nennschluss: 27. September 2024 \nNenngeld: 200\,00 Euro; 30\,00 Euro nur für Haar- und Formwert Beurteilung (ohne VGP/VPS) \nZahlungseingang bis spätestens 30.09.2024. Die Nennung verpflichtet zur Zahlung des Nenngeldes\, sollte zum Nennschluss das Nenngeld nicht auf das Prüfungskonto überwiesen sein\, wird die Nennung als nichtig erachtet. Nenngeld ist Reugeld! \nHaar- und Formwert-Beurteilung nur falls genug Anfragen vorliegen.
URL:https://pudelpointer.dev.ivry.cloud/veranstaltung/vgp-vps-haar-und-formwert-beurteilung-in-heidmuehlen-krempermarsch/
CATEGORIES:Schleswig-Holstein
END:VEVENT
BEGIN:VEVENT
DTSTART;VALUE=DATE:20241019
DTEND;VALUE=DATE:20241021
DTSTAMP:20260423T213431
CREATED:20240115T115221Z
LAST-MODIFIED:20240115T115221Z
UID:1500-1729296000-1729468799@pudelpointer.dev.ivry.cloud
SUMMARY:Verbandsgebrauchsprüfung VGP ü.N. in den Revieren um Wettin
DESCRIPTION:Übernachtfährte Damwild gespritzt \nZugelassen nur eingetragene Vorstehhunde \nNennschluss 03.08.2024 \nNenngeld Euro 120\,00 für Mitglieder\, Euro 170\,00 für Nichtmitglieder
URL:https://pudelpointer.dev.ivry.cloud/veranstaltung/verbandsgebrauchspruefung-vgp-ue-n-in-den-revieren-um-wettin/
CATEGORIES:Mitteldeutschland
END:VEVENT
BEGIN:VEVENT
DTSTART;VALUE=DATE:20241026
DTEND;VALUE=DATE:20241027
DTSTAMP:20260423T213431
CREATED:20240115T114544Z
LAST-MODIFIED:20240115T114544Z
UID:1486-1729900800-1729987199@pudelpointer.dev.ivry.cloud
SUMMARY:Bringtreue-Prüfung VPP e.V. LG Hessen in ARGE mit VDD Hessen e.V. in Groß-Gera
DESCRIPTION:
URL:https://pudelpointer.dev.ivry.cloud/veranstaltung/bringtreue-pruefung-vpp-e-v-lg-hessen-in-arge-mit-vdd-hessen-e-v-in-gross-gera/
CATEGORIES:Hessen
END:VEVENT
END:VCALENDAR